BEGIN:VCALENDAR
VERSION:2.0
PRODID:-//New Folkestone Society - ECPv6.15.20//NONSGML v1.0//EN
CALSCALE:GREGORIAN
METHOD:PUBLISH
X-ORIGINAL-URL:https://www.newfolkestonesociety.org.uk
X-WR-CALDESC:Events for New Folkestone Society
REFRESH-INTERVAL;VALUE=DURATION:PT1H
X-Robots-Tag:noindex
X-PUBLISHED-TTL:PT1H
BEGIN:VTIMEZONE
TZID:Europe/London
BEGIN:DAYLIGHT
TZOFFSETFROM:+0000
TZOFFSETTO:+0100
TZNAME:BST
DTSTART:20220327T010000
END:DAYLIGHT
BEGIN:STANDARD
TZOFFSETFROM:+0100
TZOFFSETTO:+0000
TZNAME:GMT
DTSTART:20221030T010000
END:STANDARD
BEGIN:DAYLIGHT
TZOFFSETFROM:+0000
TZOFFSETTO:+0100
TZNAME:BST
DTSTART:20230326T010000
END:DAYLIGHT
BEGIN:STANDARD
TZOFFSETFROM:+0100
TZOFFSETTO:+0000
TZNAME:GMT
DTSTART:20231029T010000
END:STANDARD
BEGIN:DAYLIGHT
TZOFFSETFROM:+0000
TZOFFSETTO:+0100
TZNAME:BST
DTSTART:20240331T010000
END:DAYLIGHT
BEGIN:STANDARD
TZOFFSETFROM:+0100
TZOFFSETTO:+0000
TZNAME:GMT
DTSTART:20241027T010000
END:STANDARD
END:VTIMEZONE
BEGIN:VEVENT
DTSTART;TZID=Europe/London:20230729T140000
DTEND;TZID=Europe/London:20230729T170000
DTSTAMP:20260424T020146
CREATED:20230621T102702Z
LAST-MODIFIED:20230714T222935Z
UID:346-1690639200-1690650000@www.newfolkestonesociety.org.uk
SUMMARY:Visit to Stelling Minnis Windmill and museum - 29th July
DESCRIPTION:We have arranged a private visit to Stelling Minnis Windmill and Museum for NFS members. Friends are welcome – moreover\, you don’t have to be with a member to come along! \nAdmission is free\, but a donation of £5 is suggested. \n  \nRefreshments:\nRefreshments are available in the cafe.\nCream teas are £4 and consist of a homemade scone\, cream\, jam and tea/coffee. Alternatively\, tea or coffee is £1 separately\, squash is 30p and there is a selection of ice creams. \nThe windmill accepts CASH ONLY. \n  \nAccessibility:\nThe upper floors of the windmill are accessed by ladder\, with the topmost floor the most challenging. However\, the museum and cafe are on the ground floor. \n  \nGetting there:\nWe ask that members make their own way to the windmill. However\, if you do not drive\, please email events@newfolkestonesociety.org.uk and we will endeavour to arrange car shares. \nPlease arrive at or soon after 2.00pm\, as we will be split into groups for visiting the museum and the guided tour of the windmill. \nIf you are driving and will have spare seats\, please let us know! \nWe request anyone requiring a lift or offering a car share contacts us by 24 July\, so we can make arrangements. \n  \nDirections:\nDriving towards Canterbury on the B2068 (Stone Street) from M20 J11\, take the turning on the right (Curtis Lane\, signposted Stelling Minnis)\, a couple of miles after the petrol filling station. About half a mile down the road\, turn right into Mill Lane\, and the windmill will be on your left. \nThere is parking on site. \n  \nBooking:\nNo firm bookings are required. However\, if you think you and others are likely to come\, please let us know so that we can give the windmill volunteers an idea of numbers. Furthermore\, if you would like the cream tea\, let us know so we can inform their catering team. \n  \nFurther information:\nThe sweeps (a Kentish word for sails) are currently away being restored at a Millwright’s; although we appreciate this detracts from the visuals of the windmill\, we hope this will not spoil your enjoyment of what is sure to be a fascinating visit! \n  \nMore information on the windmill can be found on the Stelling Minnis village website’s windmill page. \nShare This:
URL:https://www.newfolkestonesociety.org.uk/event/visit-to-stelling-minis-windmill-and-museum/
LOCATION:Kent
CATEGORIES:Excursions
ATTACH;FMTTYPE=image/jpeg:https://www.newfolkestonesociety.org.uk/wp-content/uploads/2023/06/Windmill-poster-scaled.jpg
END:VEVENT
END:VCALENDAR