BEGIN:VCALENDAR
VERSION:2.0
PRODID:-//New Folkestone Society - ECPv6.15.20//NONSGML v1.0//EN
CALSCALE:GREGORIAN
METHOD:PUBLISH
X-WR-CALNAME:New Folkestone Society
X-ORIGINAL-URL:https://www.newfolkestonesociety.org.uk
X-WR-CALDESC:Events for New Folkestone Society
REFRESH-INTERVAL;VALUE=DURATION:PT1H
X-Robots-Tag:noindex
X-PUBLISHED-TTL:PT1H
BEGIN:VTIMEZONE
TZID:Europe/London
BEGIN:DAYLIGHT
TZOFFSETFROM:+0000
TZOFFSETTO:+0100
TZNAME:BST
DTSTART:20230326T010000
END:DAYLIGHT
BEGIN:STANDARD
TZOFFSETFROM:+0100
TZOFFSETTO:+0000
TZNAME:GMT
DTSTART:20231029T010000
END:STANDARD
BEGIN:DAYLIGHT
TZOFFSETFROM:+0000
TZOFFSETTO:+0100
TZNAME:BST
DTSTART:20240331T010000
END:DAYLIGHT
BEGIN:STANDARD
TZOFFSETFROM:+0100
TZOFFSETTO:+0000
TZNAME:GMT
DTSTART:20241027T010000
END:STANDARD
BEGIN:DAYLIGHT
TZOFFSETFROM:+0000
TZOFFSETTO:+0100
TZNAME:BST
DTSTART:20250330T010000
END:DAYLIGHT
BEGIN:STANDARD
TZOFFSETFROM:+0100
TZOFFSETTO:+0000
TZNAME:GMT
DTSTART:20251026T010000
END:STANDARD
END:VTIMEZONE
BEGIN:VEVENT
DTSTART;TZID=Europe/London:20240818T120000
DTEND;TZID=Europe/London:20240818T163000
DTSTAMP:20260423T065303
CREATED:20240817T201555Z
LAST-MODIFIED:20240817T201555Z
UID:1143-1723982400-1723998600@www.newfolkestonesociety.org.uk
SUMMARY:Edwardian Picnic
DESCRIPTION:Join us on The Leas in front of The Grand for our Edwardian Picnic to celebrate our 50th anniversary\, with live brass bands. \nFREE – no booking required.  Just pack a picnic\, bring a blanket and turn up!  Don’t forget your sun protection! \nMusic will be performed from 12 – 4.30pm \nThis event is part of Folkestone Festivals’ Multi-Cultural Weekend \n  \nABOUT THE BANDS\n\nAlright on the Night – 12 – 2pm \nAlright on the Night are a saxophone quartet from the Medway towns.  Since 2013\, they have entertained crowds around Medway\, Maidstone\, Gravesend and beyond with a toe-tapping range of popular\, jazz\, swing and classical music. \nvisit the band’s website \n  \nAshford Concert Band – 2.30 – 4.30pm \nThe Ashford Concert Band was formed in 2003 and is Ashford’s premier concert band\, regularly booked to play events throughout Kent. \nvisit the band’s website \n  \nABOUT THE MULTI-CULTURAL FESTIVAL\n\nFolkestone Festivals is hosting a Multi-Cultural Festival on the weekend of 17-18 August around the Leas Bandstand \nThe 25th Anniversary of the Friends of East Kent Buses will also be celebrated. Learn about all transport heritage and\nenjoy the two buses on display.  Also craft\, art\, food and drink stalls; selection of food from around the world.  Also traditional and contemporary music and dance performances from local and national artistes.  Free Punch & Judy show\, face painting\, kids fun\ngames\, amusements\, community group displays. \n  \nBands will play on the bandstand from 11am – 5pm. \nvisit the Folkestone Festivals website \n  \nTRAVEL TO THE VENUE\n\nBy Bus:\nThe venue is close to the Metropole stops\, which are served by the 102 bus between Folkestone Bus Station and Sandgate/Hythe approximately every 15 minutes. \nFor timetables\, to book tickets and to check for any journey delays or cancellations\, visit the Stagecoach website or download the app. \nFrom the stop\, head south down Metropole Road East.  You will find us on The Leas opposite. \n  \nBy Car:\nThere is parking on The Leas in front of The Metropole and The Grand\, accessed via Metropole Road East. \n  \nShare This:
URL:https://www.newfolkestonesociety.org.uk/event/edwardian-picnic/
LOCATION:in front of The Grand\, The Leas\, The Grand\, The Leas\, Folkestone\, CT20 2XL\, United Kingdom
CATEGORIES:Excursions
ATTACH;FMTTYPE=image/jpeg:https://www.newfolkestonesociety.org.uk/wp-content/uploads/2024/08/Edwardian-Picnic-digital-poster-1080p-scaled.jpg
END:VEVENT
END:VCALENDAR